BEGIN:VCALENDAR
VERSION:2.0
PRODID:-//wp-events-plugin.com//7.2.3.1//EN
TZID:America/New_York
X-WR-TIMEZONE:America/New_York
BEGIN:VEVENT
UID:32@birdquest.gcnatureclub.org
DTSTART;TZID=America/New_York:20260423T180000
DTEND;TZID=America/New_York:20260423T193000
DTSTAMP:20260330T020730Z
URL:https://birdquest.gcnatureclub.org/events/birding-by-ear-2026/
SUMMARY:Birding By Ear (Classroom)
DESCRIPTION:In a classroom setting\, learn mnemonics and “tricks of the t
 rade” to identify birds by their songs and calls. This is a great sessio
 n for novices and those that would like to brush-up on their “Birding by
  Ear” skills.\n\nLeaders: Brian &amp\; Paula Hayes\n\nGet event updates 
 on Meetup.com .
ATTACH;FMTTYPE=image/jpeg:https://birdquest.gcnatureclub.org/wp-content/up
 loads/2021/04/DSC_1339-2014-05-01-at-14-44-00-Black-White-Warbler-sm.jpg
LOCATION:Jack C. Sheppard\, Sr. Community Center / Train Station\, E Mantua
  Ave &amp\; N East Ave\, Wenonah\, NJ\, 08090\, United States
GEO:39.791215;-75.150189
X-APPLE-STRUCTURED-LOCATION;VALUE=URI;X-ADDRESS=E Mantua Ave & N East Ave\,
  Wenonah\, NJ\, 08090\, United States;X-APPLE-RADIUS=100;X-TITLE=Jack C. S
 heppard\, Sr. Community Center / Train Station:geo:39.791215,-75.150189
END:VEVENT
BEGIN:VTIMEZONE
TZID:America/New_York
X-LIC-LOCATION:America/New_York
BEGIN:DAYLIGHT
DTSTART:20260308T030000
TZOFFSETFROM:-0500
TZOFFSETTO:-0400
TZNAME:EDT
END:DAYLIGHT
END:VTIMEZONE
END:VCALENDAR