BEGIN:VCALENDAR
VERSION:2.0
PRODID:-//wp-events-plugin.com//7.2.3.1//EN
TZID:America/New_York
X-WR-TIMEZONE:America/New_York
BEGIN:VEVENT
UID:33@birdquest.gcnatureclub.org
DTSTART;TZID=America/New_York:20260426T080000
DTEND;TZID=America/New_York:20260426T093000
DTSTAMP:20260330T021038Z
URL:https://birdquest.gcnatureclub.org/events/ceres-park-2026/
SUMMARY:Ceres Park
DESCRIPTION:Walk where the first tyrannosaur in the world was found in this
  52-acre nature preserve known for forested trails\, cedar swamps\, and la
 kes formed from historic marl pits. Get familiar with birds of woods and w
 etlands. Birds will be identified by sight\, sound and/or habitat.\n\nDire
 ctions: Meet in the Main Street parking lot.\n\nLeaders: Jayne Rhynard &a
 mp\; Marie Hageman\n\nGet event updates on Meetup.com .
ATTACH;FMTTYPE=image/jpeg:https://birdquest.gcnatureclub.org/wp-content/up
 loads/2026/03/Ceres-Park-Sign-300x256-1.jpg
LOCATION:Ceres Park\, 964 Main Street\, Sewell\, NJ\, 08080\, United States
GEO:39.748385;-75.146881
X-APPLE-STRUCTURED-LOCATION;VALUE=URI;X-ADDRESS=964 Main Street\, Sewell\, 
 NJ\, 08080\, United States;X-APPLE-RADIUS=100;X-TITLE=Ceres Park:geo:39.74
 8385,-75.146881
END:VEVENT
BEGIN:VTIMEZONE
TZID:America/New_York
X-LIC-LOCATION:America/New_York
BEGIN:DAYLIGHT
DTSTART:20260308T030000
TZOFFSETFROM:-0500
TZOFFSETTO:-0400
TZNAME:EDT
END:DAYLIGHT
END:VTIMEZONE
END:VCALENDAR