BEGIN:VCALENDAR
VERSION:2.0
PRODID:-//wp-events-plugin.com//7.2.3.1//EN
TZID:America/New_York
X-WR-TIMEZONE:America/New_York
BEGIN:VEVENT
UID:31@birdquest.gcnatureclub.org
DTSTART;TZID=America/New_York:20260422T080000
DTEND;TZID=America/New_York:20260422T093000
DTSTAMP:20260330T020323Z
URL:https://birdquest.gcnatureclub.org/events/glassboro-woods-wma-2026/
SUMMARY:Glassboro Woods WMA
DESCRIPTION:This wildlife management area\, which is a 2\,337 acre forest a
 ccompanied by swamps and open fields\, boasts chances to see and hear a va
 st variety of warblers and other birds. Possibilities include Worm-eating\
 , Hooded &amp\; Prothonotary warbler\, Barred owl\, waterthrush\, Blue-hea
 ded vireo\, and Broad-winged hawk. Sturdy shoes will help walking on the u
 npaved dirt paths.\n\nDirections: From Delsea Dr. turn East onto Carpenter
  Ave.\n\nLeaders: Kris &amp\; Erik Mollenhauer\n\nPhoto credit: marneejill
  at Flickr.\n\nGet event updates on Meetup.com .
ATTACH;FMTTYPE=image/jpeg:https://birdquest.gcnatureclub.org/wp-content/up
 loads/2024/03/Barred-Owl-marneejill-Flickr.jpg
LOCATION:Glassboro Woods WMA - Carpenter Ave.\, 202 Carpenter Ave.\, Clayto
 n\, NJ\, 08312\, United States
GEO:39.678735;-75.095676
X-APPLE-STRUCTURED-LOCATION;VALUE=URI;X-ADDRESS=202 Carpenter Ave.\, Clayto
 n\, NJ\, 08312\, United States;X-APPLE-RADIUS=100;X-TITLE=Glassboro Woods 
 WMA - Carpenter Ave.:geo:39.678735,-75.095676
END:VEVENT
BEGIN:VTIMEZONE
TZID:America/New_York
X-LIC-LOCATION:America/New_York
BEGIN:DAYLIGHT
DTSTART:20260308T030000
TZOFFSETFROM:-0500
TZOFFSETTO:-0400
TZNAME:EDT
END:DAYLIGHT
END:VTIMEZONE
END:VCALENDAR