BEGIN:VCALENDAR
VERSION:2.0
PRODID:-//wp-events-plugin.com//7.2.3.1//EN
TZID:America/New_York
X-WR-TIMEZONE:America/New_York
BEGIN:VEVENT
UID:34@birdquest.gcnatureclub.org
DTSTART;TZID=America/New_York:20260429T180000
DTEND;TZID=America/New_York:20260429T193000
DTSTAMP:20260330T021517Z
URL:https://birdquest.gcnatureclub.org/events/greenwich-lake-park-2026/
SUMMARY:Greenwich Lake Park
DESCRIPTION:The paved and unpaved trails here explore various habitats and 
 wind past lagoons and waterways that drain eventually into the Delaware Ri
 ver. Look for Green Herons among the reeds and emergent vegetation. Listen
  for the song of the Yellow Warbler among other migrants.\n\nDirections: F
 rom I-295 take exit 15 and turn Left onto Tomlin Station Road. After 0.3 m
 iles\, turn Right into the entrance for Greenwich Lake Park.\n\nLeader: Ll
 oyd Shaw\n\nGet event updates on Meetup.com .
ATTACH;FMTTYPE=image/jpeg:https://birdquest.gcnatureclub.org/wp-content/up
 loads/2021/04/Common-Yellowthroat-Maple-Ridge-BQ2013-sm.jpg
LOCATION:Greenwich Lake Park\, 520 Tomlin Rd.\, Gibbstown\, NJ\, 08027\, Un
 ited States
GEO:39.811948;-75.292608
X-APPLE-STRUCTURED-LOCATION;VALUE=URI;X-ADDRESS=520 Tomlin Rd.\, Gibbstown\
 , NJ\, 08027\, United States;X-APPLE-RADIUS=100;X-TITLE=Greenwich Lake Par
 k:geo:39.811948,-75.292608
END:VEVENT
BEGIN:VTIMEZONE
TZID:America/New_York
X-LIC-LOCATION:America/New_York
BEGIN:DAYLIGHT
DTSTART:20260308T030000
TZOFFSETFROM:-0500
TZOFFSETTO:-0400
TZNAME:EDT
END:DAYLIGHT
END:VTIMEZONE
END:VCALENDAR