BEGIN:VCALENDAR
VERSION:2.0
PRODID:-//wp-events-plugin.com//7.2.3.1//EN
TZID:America/New_York
X-WR-TIMEZONE:America/New_York
BEGIN:VEVENT
UID:26@birdquest.gcnatureclub.org
DTSTART;TZID=America/New_York:20260425T080000
DTEND;TZID=America/New_York:20260425T093000
DTSTAMP:20260330T011130Z
URL:https://birdquest.gcnatureclub.org/events/washington-lake-park-2026/
SUMMARY:Washington Lake Park
DESCRIPTION:This is the largest municipal park in New Jersey and in spring 
 it comes alive with songbird and raptor migrants adding to the year-round 
 residents. Many migrants begin nesting in the woods\, especially near the 
 streams\, and the bluebirds are active around their boxes. More than 20 sp
 ecies of warblers have been identified here.\n\nDirections: Meet at parkin
 g lot D by the clock.\n\nLeaders: Marie Hageman and Lloyd Shaw\n\nGet even
 t updates on Meetup.com .
ATTACH;FMTTYPE=image/jpeg:https://birdquest.gcnatureclub.org/wp-content/up
 loads/2024/03/Washington-Lake-Park-1-sm.jpg
LOCATION:Washington Lake Park - Lot D\, 626 Hurffville - Crosskeys Rd.\, Se
 well\, NJ\, 08080\, United States
GEO:39.744189;-75.093941
X-APPLE-STRUCTURED-LOCATION;VALUE=URI;X-ADDRESS=626 Hurffville - Crosskeys 
 Rd.\, Sewell\, NJ\, 08080\, United States;X-APPLE-RADIUS=100;X-TITLE=Washi
 ngton Lake Park - Lot D:geo:39.744189,-75.093941
END:VEVENT
BEGIN:VTIMEZONE
TZID:America/New_York
X-LIC-LOCATION:America/New_York
BEGIN:DAYLIGHT
DTSTART:20260308T030000
TZOFFSETFROM:-0500
TZOFFSETTO:-0400
TZNAME:EDT
END:DAYLIGHT
END:VTIMEZONE
END:VCALENDAR